BEGIN:VCALENDAR
VERSION:2.0
PRODID:-//FOM - ECPv6.15.20//NONSGML v1.0//EN
CALSCALE:GREGORIAN
METHOD:PUBLISH
X-WR-CALNAME:FOM
X-ORIGINAL-URL:https://ortegaygasset.edu
X-WR-CALDESC:Eventos para FOM
REFRESH-INTERVAL;VALUE=DURATION:PT1H
X-Robots-Tag:noindex
X-PUBLISHED-TTL:PT1H
BEGIN:VTIMEZONE
TZID:Europe/Madrid
BEGIN:DAYLIGHT
TZOFFSETFROM:+0100
TZOFFSETTO:+0200
TZNAME:CEST
DTSTART:20250330T010000
END:DAYLIGHT
BEGIN:STANDARD
TZOFFSETFROM:+0200
TZOFFSETTO:+0100
TZNAME:CET
DTSTART:20251026T010000
END:STANDARD
BEGIN:DAYLIGHT
TZOFFSETFROM:+0100
TZOFFSETTO:+0200
TZNAME:CEST
DTSTART:20260329T010000
END:DAYLIGHT
BEGIN:STANDARD
TZOFFSETFROM:+0200
TZOFFSETTO:+0100
TZNAME:CET
DTSTART:20261025T010000
END:STANDARD
BEGIN:DAYLIGHT
TZOFFSETFROM:+0100
TZOFFSETTO:+0200
TZNAME:CEST
DTSTART:20270328T010000
END:DAYLIGHT
BEGIN:STANDARD
TZOFFSETFROM:+0200
TZOFFSETTO:+0100
TZNAME:CET
DTSTART:20271031T010000
END:STANDARD
END:VTIMEZONE
BEGIN:VEVENT
DTSTART;TZID=Europe/Madrid:20260420T153000
DTEND;TZID=Europe/Madrid:20260427T203000
DTSTAMP:20260420T110600
CREATED:20260417T111535Z
LAST-MODIFIED:20260417T111537Z
UID:61233-1776699000-1777321800@ortegaygasset.edu
SUMMARY:
DESCRIPTION:Con motivo del Día Internacional del Libro —23 de abril—\, Revista de Occidente celebra un mercadillo muy especial en el que podrás descubrir y adquirir ejemplares originales de su 2.ª\, 3.ª y 4.ª época. Desde hace un siglo\, sus páginas han sido un espacio de encuentro entre generaciones\, ideas y corrientes intelectuales decisivas para la cultura contemporánea. Acércate a los jardines de la Fundación y descubre números históricos de la Revista de Occidente que han acompañado algunos de los grandes debates de nuestro tiempo.¿Dónde? Jardín de la Fundación Ortega-Marañón
URL:https://ortegaygasset.edu/evento/61233/
ATTACH;FMTTYPE=image/jpeg:https://ortegaygasset.edu/wp-content/uploads/2026/04/mercadillo-RO.jpg
END:VEVENT
BEGIN:VEVENT
DTSTART;TZID=Europe/Madrid:20260420T190000
DTEND;TZID=Europe/Madrid:20260420T203000
DTSTAMP:20260420T110600
CREATED:20260410T175040Z
LAST-MODIFIED:20260410T175042Z
UID:60916-1776711600-1776717000@ortegaygasset.edu
SUMMARY:Presentación libro I La hija del sordo
DESCRIPTION:Julia Montejo construye una novela sobre la herencia invisible que recibimos y sobre las pérdidas que solo comprendemos cuando ya es tarde. La protagonista\, Amada\, crece en un caserío aislado donde el silencio se impone como norma absoluta por voluntad de su padre\, mientras su madre\, en secreto\, le enseña a leer\, a nombrar el mundo y a resistir.A medida que la infancia se resquebraja y Amada emprende la huida\, la novela revela no solo su proceso de construcción personal\, sino también la historia oculta de quienes la precedieron. La autora\, Julia Montejo\, estará acompañada por Antonio Orejudo.¿Cuándo? 20 de abril\, 19:00 h.¿Dónde? Fundación Ortega-MarañónC/ Fortuny\, 53. Madrid \n\n\n\n \n\n\n\n\nInscripción
URL:https://ortegaygasset.edu/evento/presentacion-libro-i-la-hija-del-sordo/
ATTACH;FMTTYPE=image/jpeg:https://ortegaygasset.edu/wp-content/uploads/2026/04/Seminario-Ilustracion-3.jpg
END:VEVENT
BEGIN:VEVENT
DTSTART;TZID=Europe/Madrid:20260421T180000
DTEND;TZID=Europe/Madrid:20260421T200000
DTSTAMP:20260420T110600
CREATED:20260417T102559Z
LAST-MODIFIED:20260417T102602Z
UID:61189-1776794400-1776801600@ortegaygasset.edu
SUMMARY:Presentación del libro | La losa de un secreto
DESCRIPTION:Jerónimo Farré construye una ficción coral que arranca en la Cataluña republicana y el Madrid de posguerra para adentrarse en una trama de secretos familiares\, culpas\, pérdidas y revelaciones. La vida de Maurice Gamell\, marcada por una carta llegada desde Argentina y por el peso de una verdad inconfesable\, vertebra un relato de suspense\, memoria\, amores imposibles\, soledad y miedo persistente a la verdad. \n\n\n\n \n\n\n\nPartiparán junto el autor\, Jerónimo Farré\, VíctorMadera\, Ernesto Sáenz de Buruaga\, Vanesa Pérez y Manuel Pimentel. \n\n\n\n \n\n\n\n\nInscripción
URL:https://ortegaygasset.edu/evento/presentacion-del-libro-la-losa-de-un-secreto/
ATTACH;FMTTYPE=image/jpeg:https://ortegaygasset.edu/wp-content/uploads/2026/04/Seminario-Ilustracion-2026-04-07T101615.534.jpg
END:VEVENT
BEGIN:VEVENT
DTSTART;TZID=Europe/Madrid:20260422T190000
DTEND;TZID=Europe/Madrid:20260422T200000
DTSTAMP:20260420T110600
CREATED:20260417T102832Z
LAST-MODIFIED:20260417T102834Z
UID:61192-1776884400-1776888000@ortegaygasset.edu
SUMMARY:Presentación del libro | Fenomenología el dolor del cuerpo
DESCRIPTION:Desde la filosofía fenomenológica\, la experiencia del dolor corporal como una quiebra radical de la normalidad y una interrogación sobre el sentido de la vida\, el libro de Agustín Serrano de Haro profundiza en las estructuras del sufrimiento encarnado —la intimidad de la carne\, la pasividad de la afección y el maleamiento de la sensibilidad— desde una mirada a la experiencia en persona. \n\n\n\n \n\n\n\nConversarán sobre el libro Agustín Serrano de Haro (autor)\, Fernando Bandrés\, Xavier Escribano e Ignacio Blanco. \n\n\n\n \n\n\n\n\nInscripción
URL:https://ortegaygasset.edu/evento/presentacion-del-libro-fenomenologia-el-dolor-del-cuerpo/
ATTACH;FMTTYPE=image/jpeg:https://ortegaygasset.edu/wp-content/uploads/2026/04/Seminario-Ilustracion-2026-04-07T103140.658.jpg
END:VEVENT
BEGIN:VEVENT
DTSTART;TZID=Europe/Madrid:20260423T180000
DTEND;TZID=Europe/Madrid:20260423T200000
DTSTAMP:20260420T110600
CREATED:20260417T103102Z
LAST-MODIFIED:20260417T112134Z
UID:61195-1776967200-1776974400@ortegaygasset.edu
SUMMARY:Concierto | Capella de Ministrers
DESCRIPTION:En este concierto\, Capella de Ministrers propone un viaje por la música antigua para explorar el hibridismo cultural y sonoro entre Oriente y Occidente. Bajo el título Virtus Oriente & Occidente\, el Espacio Cultural de la Fundación acoge una propuesta centrada en los intercambios históricos entre ambos mundos y en la decisiva influencia del Mediterráneo como espacio de encuentro\, diálogo y mestizaje artístico a lo largo del tiempo. \n\n\n\n \n\n\n\nEntrada libre hasta completar aforo. \n\n\n\n\nInscirpción
URL:https://ortegaygasset.edu/evento/concierto-capella-de-ministrers/
ATTACH;FMTTYPE=image/jpeg:https://ortegaygasset.edu/wp-content/uploads/2026/04/Seminario-Ilustracion-14.jpg
END:VEVENT
BEGIN:VEVENT
DTSTART;TZID=Europe/Madrid:20260424T183000
DTEND;TZID=Europe/Madrid:20260424T193000
DTSTAMP:20260420T110600
CREATED:20260417T103421Z
LAST-MODIFIED:20260417T103424Z
UID:61199-1777055400-1777059000@ortegaygasset.edu
SUMMARY:Presentación del libro | Bioética clínica
DESCRIPTION:El autor ofrece una guía clara y actualizada sobre la bioética clínica como herramienta práctica para afrontar los dilemas morales de la medicina. A través de un recorrido que va de sus fundamentos a los retos de la biotecnología\, la inteligencia artificial y el inicio y final de la vida\, el libro invita a deliberar con rigor\, humanidad y respeto a la pluralidad de valores. \n\n\n\n \n\n\n\nLa presentación del libro correrá a cargo del autor\, Benjamín Herreros\, Manuel Pimentel\, Javier Sádaba y Julio Zarco. \n\n\n\n \n\n\n\n\nInscripción
URL:https://ortegaygasset.edu/evento/presentacion-del-libro-bioetica-clinica/
ATTACH;FMTTYPE=image/jpeg:https://ortegaygasset.edu/wp-content/uploads/2026/04/Seminario-Ilustracion-2026-04-07T122937.868.jpg
END:VEVENT
BEGIN:VEVENT
DTSTART;TZID=Europe/Madrid:20260424T190000
DTEND;TZID=Europe/Madrid:20260424T200000
DTSTAMP:20260420T110600
CREATED:20260417T110140Z
LAST-MODIFIED:20260417T110143Z
UID:61209-1777057200-1777060800@ortegaygasset.edu
SUMMARY:Seminario Civismo | "Los peligros de moralidad"
DESCRIPTION:En esta tercera edición del Seminario de Pensamiento\, la Fundación Civismo propone un espacio de reflexión\, pensamiento crítico y diálogo orientado a comprender la sociedad actual y los desafíos del futuro. En esta ocasión\, el encuentro contará con la participación de Pablo Malo\, psiquiatra y experto en Psicología Evolucionista\, autor de Los peligros de la moralidad. La iniciativa está organizada junto a varias fundaciones e instituciones colaboradoras. \n\n\n\n \n\n\n\n\nInscripción
URL:https://ortegaygasset.edu/evento/seminario-civismo-los-peligros-de-moralidad/
ATTACH;FMTTYPE=image/jpeg:https://ortegaygasset.edu/wp-content/uploads/2026/04/sem-civismo.jpg
END:VEVENT
BEGIN:VEVENT
DTSTART;TZID=Europe/Madrid:20260427T183000
DTEND;TZID=Europe/Madrid:20260427T193000
DTSTAMP:20260420T110600
CREATED:20260417T110416Z
LAST-MODIFIED:20260417T110419Z
UID:61212-1777314600-1777318200@ortegaygasset.edu
SUMMARY:Coloquio | "Vivir de la literatura dramática"
DESCRIPTION:En esta sesión de Escribir y sus circunstancias\, la Asociación Colegial de Escritoras y Escritores de España\, principal organización profesional del sector\, propone hoy una reflexión sobre la literatura dramática y las condiciones que la rodean. Con más de cuatro décadas de trayectoria en la defensa de los derechos de los autores\, la entidad reúne a escritores en castellano y en las demás lenguas oficiales de España.El coloquio contará con Juan Carlos Rubio\, María Velasco\, Alfonso Plou y Ana Fernández Valbuena. \n\n\n\n \n\n\n\n\nInscripción
URL:https://ortegaygasset.edu/evento/coloquio-vivir-de-la-literatura-dramatica/
ATTACH;FMTTYPE=image/jpeg:https://ortegaygasset.edu/wp-content/uploads/2026/04/Seminario-Ilustracion-15-1.jpg
END:VEVENT
BEGIN:VEVENT
DTSTART;TZID=Europe/Madrid:20260427T183000
DTEND;TZID=Europe/Madrid:20260427T200000
DTSTAMP:20260420T110600
CREATED:20260417T110754Z
LAST-MODIFIED:20260417T112144Z
UID:61216-1777314600-1777320000@ortegaygasset.edu
SUMMARY:La génesis del Lyceum Club | La Residencia de Señoritas y el Lyceum Club Femenino
DESCRIPTION:En este ciclo se propone una aproximación a la historia del Lyceum Club Femenino\, a su contexto de origen y a su influencia en la vida cultural\, política y social de su tiempo. Esta mesa redonda abordará los vínculos entre el Lyceum y el Instituto Internacional\, así como su papel en la promoción de la educación\, la cultura y la presencia pública de las mujeres en la España del primer tercio del siglo XX.En esta ocasión\, este ciclo contará con Encarnación Lemus\, historiadora e investigadora. Ganadora del Premio Nacional de Historia de España 2023. \n\n\n\n \n\n\n\n\nInscripción
URL:https://ortegaygasset.edu/evento/la-genesis-del-lyceum-club-la-residencia-de-senoritas-y-el-lyceum-club-femenino/
ATTACH;FMTTYPE=image/jpeg:https://ortegaygasset.edu/wp-content/uploads/2026/04/Seminario-Ilustracion-2026-04-13T155905.918.jpg
END:VEVENT
BEGIN:VEVENT
DTSTART;TZID=Europe/Madrid:20260427T190000
DTEND;TZID=Europe/Madrid:20260427T200000
DTSTAMP:20260420T110600
CREATED:20260417T111329Z
LAST-MODIFIED:20260417T111331Z
UID:61230-1777316400-1777320000@ortegaygasset.edu
SUMMARY:Presentación Política Exterior | Crímenes internacionales e impunidad
DESCRIPTION:El último número de Política Exterior recorre algunos de los episodios más trágicos del pasado reciente\, deteniéndose en conflictos y crisis humanitarias que han marcado la conciencia internacional: de los Balcanes a Ruanda\, de Sudán a Myanmar\, de Ucrania a Gaza. Un itinerario por escenarios de violencia que invita a reflexionar sobre la fragilidad del orden internacional.La presentación del número correrá a cargo de Paz Andrés Sáenz de Santa María\, Francisco José Dacoba e Helena Torroja\, moderados por Ignacio Blanco.  \n\n\n\n \n\n\n\n\nInscripción
URL:https://ortegaygasset.edu/evento/presentacion-politica-exterior-crimenes-internacionales-e-impunidad/
ATTACH;FMTTYPE=image/jpeg:https://ortegaygasset.edu/wp-content/uploads/2026/04/Seminario-Ilustracion-16.jpg
END:VEVENT
END:VCALENDAR