BEGIN:VCALENDAR
VERSION:2.0
PRODID:-//FOM - ECPv6.15.20//NONSGML v1.0//EN
CALSCALE:GREGORIAN
METHOD:PUBLISH
X-WR-CALNAME:FOM
X-ORIGINAL-URL:https://ortegaygasset.edu
X-WR-CALDESC:Eventos para FOM
REFRESH-INTERVAL;VALUE=DURATION:PT1H
X-Robots-Tag:noindex
X-PUBLISHED-TTL:PT1H
BEGIN:VTIMEZONE
TZID:Europe/Madrid
BEGIN:DAYLIGHT
TZOFFSETFROM:+0100
TZOFFSETTO:+0200
TZNAME:CEST
DTSTART:20250330T010000
END:DAYLIGHT
BEGIN:STANDARD
TZOFFSETFROM:+0200
TZOFFSETTO:+0100
TZNAME:CET
DTSTART:20251026T010000
END:STANDARD
BEGIN:DAYLIGHT
TZOFFSETFROM:+0100
TZOFFSETTO:+0200
TZNAME:CEST
DTSTART:20260329T010000
END:DAYLIGHT
BEGIN:STANDARD
TZOFFSETFROM:+0200
TZOFFSETTO:+0100
TZNAME:CET
DTSTART:20261025T010000
END:STANDARD
BEGIN:DAYLIGHT
TZOFFSETFROM:+0100
TZOFFSETTO:+0200
TZNAME:CEST
DTSTART:20270328T010000
END:DAYLIGHT
BEGIN:STANDARD
TZOFFSETFROM:+0200
TZOFFSETTO:+0100
TZNAME:CET
DTSTART:20271031T010000
END:STANDARD
END:VTIMEZONE
BEGIN:VEVENT
DTSTART;TZID=Europe/Madrid:20260420T153000
DTEND;TZID=Europe/Madrid:20260427T203000
DTSTAMP:20260424T165957
CREATED:20260417T111535Z
LAST-MODIFIED:20260417T111537Z
UID:61233-1776699000-1777321800@ortegaygasset.edu
SUMMARY:
DESCRIPTION:Con motivo del Día Internacional del Libro —23 de abril—\, Revista de Occidente celebra un mercadillo muy especial en el que podrás descubrir y adquirir ejemplares originales de su 2.ª\, 3.ª y 4.ª época. Desde hace un siglo\, sus páginas han sido un espacio de encuentro entre generaciones\, ideas y corrientes intelectuales decisivas para la cultura contemporánea. Acércate a los jardines de la Fundación y descubre números históricos de la Revista de Occidente que han acompañado algunos de los grandes debates de nuestro tiempo.¿Dónde? Jardín de la Fundación Ortega-Marañón
URL:https://ortegaygasset.edu/evento/61233/
ATTACH;FMTTYPE=image/jpeg:https://ortegaygasset.edu/wp-content/uploads/2026/04/mercadillo-RO.jpg
END:VEVENT
BEGIN:VEVENT
DTSTART;TZID=Europe/Madrid:20260424T183000
DTEND;TZID=Europe/Madrid:20260424T193000
DTSTAMP:20260424T165957
CREATED:20260417T103421Z
LAST-MODIFIED:20260417T103424Z
UID:61199-1777055400-1777059000@ortegaygasset.edu
SUMMARY:Presentación del libro | Bioética clínica
DESCRIPTION:El autor ofrece una guía clara y actualizada sobre la bioética clínica como herramienta práctica para afrontar los dilemas morales de la medicina. A través de un recorrido que va de sus fundamentos a los retos de la biotecnología\, la inteligencia artificial y el inicio y final de la vida\, el libro invita a deliberar con rigor\, humanidad y respeto a la pluralidad de valores. \n\n\n\n \n\n\n\nLa presentación del libro correrá a cargo del autor\, Benjamín Herreros\, Manuel Pimentel\, Javier Sádaba y Julio Zarco. \n\n\n\n \n\n\n\n\nInscripción
URL:https://ortegaygasset.edu/evento/presentacion-del-libro-bioetica-clinica/
ATTACH;FMTTYPE=image/jpeg:https://ortegaygasset.edu/wp-content/uploads/2026/04/Seminario-Ilustracion-2026-04-07T122937.868.jpg
END:VEVENT
BEGIN:VEVENT
DTSTART;TZID=Europe/Madrid:20260424T190000
DTEND;TZID=Europe/Madrid:20260424T200000
DTSTAMP:20260424T165957
CREATED:20260417T110140Z
LAST-MODIFIED:20260417T110143Z
UID:61209-1777057200-1777060800@ortegaygasset.edu
SUMMARY:Seminario Civismo | "Los peligros de moralidad"
DESCRIPTION:En esta tercera edición del Seminario de Pensamiento\, la Fundación Civismo propone un espacio de reflexión\, pensamiento crítico y diálogo orientado a comprender la sociedad actual y los desafíos del futuro. En esta ocasión\, el encuentro contará con la participación de Pablo Malo\, psiquiatra y experto en Psicología Evolucionista\, autor de Los peligros de la moralidad. La iniciativa está organizada junto a varias fundaciones e instituciones colaboradoras. \n\n\n\n \n\n\n\n\nInscripción
URL:https://ortegaygasset.edu/evento/seminario-civismo-los-peligros-de-moralidad/
ATTACH;FMTTYPE=image/jpeg:https://ortegaygasset.edu/wp-content/uploads/2026/04/sem-civismo.jpg
END:VEVENT
END:VCALENDAR